Workbook

Sheet Sheet1
A1: КОЛИЧЕСТВЕНА СМЕТКА
A3: Обект: Ремонт на Народно читалище "Мироско Райчев - 1927", район "Кремиковци"
A4: № | B4: НАИМЕНОВАНИЕ НА СМР/СРР | C4: Ед. мярка | D4: Количество | E4: Eд. цена | H4: Обща стойност
F5: Ед.цени | G5: Eд. Цени
A7: 1 | B7: 2 | C7: 3 | D7: 4 | E7: 5 | F7: 5 | G7: 5 | H7: 6=4x5
A8: I | B8: Ремонт на покрив
A9: 1 | B9: Премахване на съществуващ покрив (керемиди, дъсчена обшивка, дървена конструкция, тухлен надзид, водосточни улуци, казанчета и тръби) | C9: м2 | D9: 548.04 | E9: 26.27 | F9: 16
A10: 2 | B10: Почистване на покривна плоча и обратнии греди | C10: м2 | D10: 429.29 | E10: 18.18 | F10: 8
A11: 3 | B11: Направа на топлоизолация по покривна плоча XPS 10 см | C11: м2 | D11: 391.12 | E11: 30.98 | F11: 30
A12: 4 | B12: Направа на пердашена армирана циментова замазка с дебелина 3 см с мрежа ф 3 мм (15х15 см) върху покривна плоча | C12: м2 | D12: 391.12 | E12: 15.24 | F12: 12.8
A13: 5 | B13: Направа на топлоизолация по обратни греди XPS 10 см | C13: м2 | D13: 84.81 | E13: 33.66 | F13: 28
A14: 6 | B14: Полагане на каменна вата с дебелина 10 см | C14: м2 | D14: 44.99 | E14: 25 | F14: 15
A15: 7 | B15: Направа на топлоизолация под стрехи XPS 2 см | C15: м2 | D15: 65.81 | E15: 25.81 | F15: 20
A16: 8 | B16: Доставка и монтаж на водооткапващ профил с мрежа по хоризонтални ръбове и топлоизолации и мазилки | C16: м | D16: 94 | E16: 4.72 | F16: =E16*1.1 -> 5.192
A17: 9 | B17: Доставка и измазване със силикатна мазилка под стрехи | C17: м2 | D17: 65.81 | E17: 21.8 | F17: 19.5
A18: 10 | B18: Направа и разваляне на кофраж за стомано-бетонов пояс | C18: м2 | D18: 42.55 | E18: 33.49 | F18: 33.5
A19: 11 | B19: Доставка и монтаж на заготвена армировка | C19: кг | D19: 396.78 | E19: 1.54 | F19: =E19*1.1 -> 1.694
A20: 12 | B20: Доставка и полагане на бетон С20/25 | C20: м3 | D20: 5.33 | E20: 111.16 | F20: =E20*1.1 -> 122.276
A21: 13 | B21: Направа на носеща дървена покривна конструкция с импрегниран дървен материал | C21: м3 | D21: 27.18 | E21: 654.42 | F21: =E21*1.1 -> 719.862
A22: 14 | B22: Направа на обшивка с ОSВ за покриване | C22: м2 | D22: 548.04 | E22: 30.34 | F22: 27
A23: 15 | B23: Направа на летвена скара по покриви за керемиди | C23: м2 | D23: 548.04 | E23: 10.86 | F23: 8.5
A24: 16 | B24: Полагане на покривна паропропусклива мембрана със застъпване | C24: м2 | D24: 657.64 | E24: 4.38 | F24: 2.5
A25: 17 | B25: Наковаване на челни рендосани дъски | C25: м | D25: 94 | E25: 16.86 | F25: 12
A26: 18 | B26: Доставка и монтаж подулучна пола | C26: м | D26: 94 | E26: 13.48 | F26: =E26*1.1 -> 14.828
A27: 19 | B27: Покриване с керемиди с с максимално тегло 3,2 кг/бр с минимални размери 25,5x43,5 върху готови мушама и летви | C27: м2 | D27: 548.04 | E27: 31.03 | F27: =E27*1.1 -> 34.133
A28: 20 | B28: Покриване на била и ръбове с глинени капаци с тегло до 3.5 кг | C28: м | D28: 73.04 | E28: 10.57 | F28: 18.54
A29: 21 | B29: Доставка и монтаж на PVC висящи улуци ф100мм | C29: м | D29: 94 | E29: 10.99 | F29: 18
A30: 22 | B30: Доставка и монтаж на PVC водосточни тръби ф100мм | C30: м | D30: 47.5 | E30: 10.83 | F30: 18
A31: 23 | B31: Доставка и монтаж на PVC водосточни казанчета | C31: бр. | D31: 5 | E31: 14.19 | F31: 37.8
A32: 24 | B32: Изкърпване на външна водоплътна гладка мазилка на комини | C32: м2 | D32: 6.72 | E32: 13 | F32: =E32*1.1 -> 14.3
A33: 25 | B33: Направа и доставка на шапки за комини | C33: м2 | D33: 1.28 | E33: 25.55 | F33: =E33*1.1 -> 28.105
A34: 26 | B34: Монтаж на шапки за комини | C34: бр. | D34: 3 | E34: 1.99 | F34: =E34*1.1 -> 2.189
A35: 27 | B35: Ламаринена обшивка за комини и улами | C35: м2 | D35: 17.84 | E35: 13.48 | F35: =E35*1.1 -> 14.828
A36: 28 | B36: Доставка и монтаж на капак за достъп до подпокривното пространство | C36: бр. | D36: 1 | E36: 115 | F36: =E36*1.1 -> 126.5
A37: 29 | B37: Доставка и монтаж капандура | C37: бр. | D37: 1 | E37: 215 | F37: =E37*1.1 -> 236.5
A38: 30 | B38: Доставка и монтаж на тел от алуминиева сплав AlMgSi ф 8, комплект с крепежи за наклонен покрив и присъединителни клеми | C38: м | D38: 160 | E38: 10.63 | F38: =E38*1.1 -> 11.693
A39: 31 | B39: Доставка и монтаж на мълниеприемен прът ф16/ф10/3000мм, резба М16 - алуминий, комплект с основа | C39: бр. | D39: 2 | E39: 62.05 | F39: =E39*1.1 -> 68.255
A40: 32 | B40: Доставка и монтаж на екструдиран проводник от алуминиева сплав AlMgSi ф 8, с изолация ф11, комплект с държачи и присъединителни клеми | C40: м | D40: 20 | E40: 16.67 | F40: =E40*1.1 -> 18.337
A41: 33 | B41: Доставка и монтаж на контролна клема в метална кутия с капак | C41: бр. | D41: 2 | E41: 69.66 | F41: =E41*1.1 -> 76.626
A42: 34 | B42: Стоманена поцинкована шина 40/4мм за заземител 3.00 м | C42: бр. | D42: 2 | E42: 8.05 | F42: =E42*1.1 -> 8.855
A43: 35 | B43: Контролно мерене на заземление от лицензирана лаборатория | C43: бр. | D43: 1 | E43: 250 | F43: =E43*1.1 -> 275
... A45: 37 | B45: Мачтов подемник до 20м | C45: мсм | D45: 30 | E45: 10 | F45: =E45*1.1 -> 11
A46: 38 | B46: Изграждане на шахти под водосточни тръби | C46: бр. | D46: 5 | F46: 450
A47: 39 | B47: Изграждане на хоризонтална дъждоотвеждаща инсталация с ф 110, вкл. и изкопи, пясъчна подложка, трошенокаменна фракция и възстановяване настилки | C47: м | D47: 55 | F47: 45
B48: Общо по т. I
A49: II | B49: =[1]Лист1!C54 -> Топлоизолационна система по външни стени
A50: 40 | B50: =[1]Лист1!C55 -> Монтаж и демонтаж на фасадно тръбно скеле | C50: =[1]Лист1!D55 -> м² | D50: 750 | F50: 4.8
A51: 41 | B51: =[1]Лист1!C56 -> Очукване на мазилка по фасади | C51: =[1]Лист1!D56 -> м² | D51: 320 | F51: 5.6
A52: 42 | B52: =[1]Лист1!C57 -> Изкърпване на мазилка по фасади | C52: =[1]Лист1!D57 -> м² | D52: 320 | F52: 12.8
A53: 43 | B53: Доставка и полагане на етонови ордюри 8/16/50 около сграда | C53: м | D53: 90 | F53: 29.3
A54: 44 | B54: =[1]Лист1!C58 -> Направа натоплоизолация от EPS с деб. 10 см. по фасади на гребан | C54: =[1]Лист1!D58 -> м2 | D54: 621 | F54: 22.87
A55: 45 | B55: =[1]Лист1!C59 -> Направа на топлоизолация от ХPS с деб. 2 см. по цокъл на гребен | C55: =[1]Лист1!D59 -> м² | D55: 140 | F55: 18.85
A56: 46 | B56: =[1]Лист1!C60 -> Обръщане около отвори с ЕPS с деб. 2 см., вкл. и ъглопроектори | C56: =[1]Лист1!D60 -> м | D56: 200 | F56: 22.72
A57: 47 | B57: =[1]Лист1!C61 -> Доставка и монтаж на стъклофибарна мрежа и направа на шпакловка | C57: =[1]Лист1!D61 -> м2 | D57: 761 | F57: 14.95
A58: 48 | B58: =[1]Лист1!C62 -> Доставка и полагане на структурна мазилка по фасади | C58: =[1]Лист1!D62 -> м² | D58: 621 | F58: 18.5
A59: 49 | B59: =[1]Лист1!C63 -> Доставка и полагане на структурна мазилка по цокъл | C59: =[1]Лист1!D63 -> м² | D59: 140 | F59: 25.5
A60: 50 | B60: =[1]Лист1!C64 -> Доставка и монтаж на подпрозоречни прагове на прозорца | C60: =[1]Лист1!D64 -> м | D60: 50 | F60: 56.5
A61: 51 | B61: =[1]Лист1!C65 -> Доставка и монтаж AL врати и витрина по детайл на възложителя | C61: =[1]Лист1!D65 -> м2 | D61: 2.4 | F61: 380
A62: 52 | B62: =[1]Лист1!C66 -> Доставка и монтаж на PVС прозорци, вкл. и вътрешно обръщане | C62: =[1]Лист1!D66 -> м2 | D62: 18.4 | F62: 205
A63: 53 | B63: =[1]Лист1!C67 -> Доставка и монтаж на автопанинг брави и автомати за самозатваряне | C63: =[1]Лист1!D67 -> бр. | D63: 3 | F63: 250
A64: 54 | B64: =[1]Лист1!C68 -> Доставка и монтаж на охранителни решетки пред прозорци първи етаж | C64: =[1]Лист1!D68 -> м2 | D64: 36 | F64: 145.2
A65: 55 | B65: =[1]Лист1!C69 -> Доставка и монтаж охранителна решетка входни врати | C65: =[1]Лист1!D69 -> м2 | D65: 18.5 | F65: 205
... A67: 57 | B67: =[1]Лист1!C71 -> Доставка и монтаж на стенен инвенторен климатик 18000 BTU, с мин. Параметри/ Енергиен клас А+/А+; SEER-5,60, SCOP- 4,00/ | C67: =[1]Лист1!D71 -> бр. | D67: 2 | F67: 2080
A68: 58 | B68: Изграждане система за отвеждане кондез вътрешни тела климатици | C68: бр. | D68: 3 | F68: 560
A69: 59 | B69: Доставка и монтаж на стенен вентилатор, вкл. проиване на отвори и ел. заранване | C69: бр. | D69: 2 | F69: 420
B70: Общо по т. II
A71: III | B71: Вътрешни ремонти
A72: 60 | B72: Доставка и монтаж разпределително ел. табло 2 ет. | C72: бр. | D72: 1 | F72: 350
A73: 61 | B73: Доставка и монтаж захранващ кабел от ГРТ до РТ 2 ет. | C73: м | D73: 25 | F73: 32
A74: 62 | B74: Подмяна кабели осветителна инсталация 2 ет., вкл. и ел. ключове /връзване към новомонтирано РТ/ | C74: компл. | D74: 1 | F74: 4300
A75: 63 | B75: Направа гипсова шпакловка по стени /кърпежи/ | C75: м2 | D75: 110 | F75: 8.8
A76: 64 | B76: Грундиране и боядисване с латексов до покриване по стени | C76: м2 | D76: 700 | F76: 6.8
A77: 65 | B77: Изграждане на окачен разтерен таван 60/60 | C77: м2 | D77: 230 | F77: 34
A78: 66 | B78: Доставка, монтаж и последващ демонтаж подвижно скеле в киносалон | C78: дни | D78: 10 | F78: 50
A79: 67 | B79: Ремонт на гипсови орнаменти и грундиране и боядисване с латекс до покриване на таван | C79: м2 | D79: 156 | F79: 9.8
B80: Общо по т. III
C81: Обща стойност :
C82: Непредвидени разходи на 5% :
C83: Общо без ДДС :
C84: ДДС 20% :
C85: Всичко за СМР :
