Workbook

Sheet Sheet1
A1: КОЛИЧЕСТВЕНА СМЕТКА
A3: Обект: Ремонт на Народно читалище "Мироско Райчев - 1927", район "Кремиковци"
A4: № | B4: НАИМЕНОВАНИЕ НА СМР/СРР | C4: Ед. мярка | D4: Количество | E4: Eд. цена | H4: Обща стойност
F5: Ед.цени | G5: Eд. Цени
A7: 1 | B7: 2 | C7: 3 | D7: 4 | E7: 5 | F7: 5 | G7: 5 | H7: 6=4x5
A8: I | B8: Ремонт на покрив
A9: 1 | B9: Премахване на съществуващ покрив (керемиди, дъсчена обшивка, дървена конструкция, тухлен надзид, водосточни улуци, казанчета и тръби) | C9: м2 | D9: 548.04 | E9: 26.27 | F9: 16
A10: 2 | B10: Почистване на покривна плоча и обратнии греди | C10: м2 | D10: 429.29 | E10: 18.18 | F10: 8
A11: 3 | B11: Направа на топлоизолация по покривна плоча XPS 10 см | C11: м2 | D11: 391.12 | E11: 30.98 | F11: 30
A12: 4 | B12: Направа на пердашена армирана циментова замазка с дебелина 3 см с мрежа ф 3 мм (15х15 см) върху покривна плоча | C12: м2 | D12: 391.12 | E12: 15.24 | F12: 12.8
A13: 5 | B13: Направа на топлоизолация по обратни греди XPS 10 см | C13: м2 | D13: 84.81 | E13: 33.66 | F13: 28
A14: 6 | B14: Полагане на каменна вата с дебелина 10 см | C14: м2 | D14: 44.99 | E14: 25 | F14: 15
A15: 7 | B15: Направа на топлоизолация под стрехи XPS 2 см | C15: м2 | D15: 65.81 | E15: 25.81 | F15: 20
A16: 8 | B16: Доставка и монтаж на водооткапващ профил с мрежа по хоризонтални ръбове и топлоизолации и мазилки | C16: м | D16: 94 | E16: 4.72 | F16: =E16*1.1 -> 5.192
A17: 9 | B17: Доставка и измазване със силикатна мазилка под стрехи | C17: м2 | D17: 65.81 | E17: 21.8 | F17: 19.5
A18: 10 | B18: Направа и разваляне на кофраж за стомано-бетонов пояс | C18: м2 | D18: 42.55 | E18: 33.49 | F18: 33.5
A19: 11 | B19: Доставка и монтаж на заготвена армировка | C19: кг | D19: 396.78 | E19: 1.54 | F19: =E19*1.1 -> 1.694
A20: 12 | B20: Доставка и полагане на бетон С20/25 | C20: м3 | D20: 5.33 | E20: 111.16 | F20: =E20*1.1 -> 122.276
A21: 13 | B21: Направа на носеща дървена покривна конструкция с импрегниран дървен материал | C21: м3 | D21: 27.18 | E21: 654.42 | F21: =E21*1.1 -> 719.862
A22: 14 | B22: Направа на обшивка с ОSВ за покриване | C22: м2 | D22: 548.04 | E22: 30.34 | F22: 27
A23: 15 | B23: Направа на летвена скара по покриви за керемиди | C23: м2 | D23: 548.04 | E23: 10.86 | F23: 8.5
A24: 16 | B24: Полагане на покривна паропропусклива мембрана със застъпване | C24: м2 | D24: 657.64 | E24: 4.38 | F24: 2.5
A25: 17 | B25: Наковаване на челни рендосани дъски | C25: м | D25: 94 | E25: 16.86 | F25: 12
A26: 18 | B26: Доставка и монтаж подулучна пола | C26: м | D26: 94 | E26: 13.48 | F26: =E26*1.1 -> 14.828
A27: 19 | B27: Покриване с керемиди с с максимално тегло 3,2 кг/бр с минимални размери 25,5x43,5 върху готови мушама и летви | C27: м2 | D27: 548.04 | E27: 31.03 | F27: =E27*1.1 -> 34.133
A28: 20 | B28: Покриване на била и ръбове с глинени капаци с тегло до 3.5 кг | C28: м | D28: 73.04 | E28: 10.57 | F28: 18.54
A29: 21 | B29: Доставка и монтаж на PVC висящи улуци ф100мм | C29: м | D29: 94 | E29: 10.99 | F29: 18
A30: 22 | B30: Доставка и монтаж на PVC водосточни тръби ф100мм | C30: м | D30: 47.5 | E30: 10.83 | F30: 18
A31: 23 | B31: Доставка и монтаж на PVC водосточни казанчета | C31: бр. | D31: 5 | E31: 14.19 | F31: 37.8
A32: 24 | B32: Изкърпване на външна водоплътна гладка мазилка на комини | C32: м2 | D32: 6.72 | E32: 13 | F32: =E32*1.1 -> 14.3
A33: 25 | B33: Направа и доставка на шапки за комини | C33: м2 | D33: 1.28 | E33: 25.55 | F33: =E33*1.1 -> 28.105
A34: 26 | B34: Монтаж на шапки за комини | C34: бр. | D34: 3 | E34: 1.99 | F34: =E34*1.1 -> 2.189
A35: 27 | B35: Ламаринена обшивка за комини и улами | C35: м2 | D35: 17.84 | E35: 13.48 | F35: =E35*1.1 -> 14.828
A36: 28 | B36: Доставка и монтаж на капак за достъп до подпокривното пространство | C36: бр. | D36: 1 | E36: 115 | F36: =E36*1.1 -> 126.5
A37: 29 | B37: Доставка и монтаж капандура | C37: бр. | D37: 1 | E37: 215 | F37: =E37*1.1 -> 236.5
A38: 30 | B38: Доставка и монтаж на тел от алуминиева сплав AlMgSi ф 8, комплект с крепежи за наклонен покрив и присъединителни клеми | C38: м | D38: 160 | E38: 10.63 | F38: =E38*1.1 -> 11.693
A39: 31 | B39: Доставка и монтаж на мълниеприемен прът ф16/ф10/3000мм, резба М16 - алуминий, комплект с основа | C39: бр. | D39: 2 | E39: 62.05 | F39: =E39*1.1 -> 68.255
A40: 32 | B40: Доставка и монтаж на екструдиран проводник от алуминиева сплав AlMgSi ф 8, с изолация ф11, комплект с държачи и присъединителни клеми | C40: м | D40: 20 | E40: 16.67 | F40: =E40*1.1 -> 18.337
A41: 33 | B41: Доставка и монтаж на контролна клема в метална кутия с капак | C41: бр. | D41: 2 | E41: 69.66 | F41: =E41*1.1 -> 76.626
A42: 34 | B42: Стоманена поцинкована шина 40/4мм за заземител 3.00 м | C42: бр. | D42: 2 | E42: 8.05 | F42: =E42*1.1 -> 8.855
...
